BEGIN:VCALENDAR
VERSION:2.0
PRODID:-//Bali Buddhism - ECPv6.15.20//NONSGML v1.0//EN
CALSCALE:GREGORIAN
METHOD:PUBLISH
X-ORIGINAL-URL:https://balibuddhism.web.id
X-WR-CALDESC:Events for Bali Buddhism
REFRESH-INTERVAL;VALUE=DURATION:PT1H
X-Robots-Tag:noindex
X-PUBLISHED-TTL:PT1H
BEGIN:VTIMEZONE
TZID:Asia/Shanghai
BEGIN:STANDARD
TZOFFSETFROM:+0800
TZOFFSETTO:+0800
TZNAME:CST
DTSTART:20230101T000000
END:STANDARD
END:VTIMEZONE
BEGIN:VEVENT
DTSTART;TZID=Asia/Shanghai:20240523T150000
DTEND;TZID=Asia/Shanghai:20240523T223000
DTSTAMP:20260420T220132
CREATED:20240522T062916Z
LAST-MODIFIED:20240522T062916Z
UID:1015-1716476400-1716503400@balibuddhism.web.id
SUMMARY:Waisaka Puja
DESCRIPTION:
URL:https://balibuddhism.web.id/index.php/agenda/waisaka-puja/
LOCATION:Vihara Giri Manggala\, Singaraja\, Bali\, Indonesia
CATEGORIES:Agenda,Perayaan,Puja Bakti
END:VEVENT
BEGIN:VEVENT
DTSTART;TZID=Asia/Shanghai:20240523T160000
DTEND;TZID=Asia/Shanghai:20240523T223000
DTSTAMP:20260420T220132
CREATED:20240521T111649Z
LAST-MODIFIED:20240521T111649Z
UID:966-1716480000-1716503400@balibuddhism.web.id
SUMMARY:Perayaan Waisak 2568 BE / 2024 di Vihara Buddha Sakyamuni
DESCRIPTION:
URL:https://balibuddhism.web.id/index.php/agenda/perayaan-waisak-2568-be-2024-di-vihara-buddha-sakyamuni/
LOCATION:Vihāra Buddha Sakyamuni\, Denpasar\, Bali\, Indonesia
CATEGORIES:Agenda,Perayaan,Puja Bakti
END:VEVENT
BEGIN:VEVENT
DTSTART;TZID=Asia/Shanghai:20240523T170000
DTEND;TZID=Asia/Shanghai:20240523T223000
DTSTAMP:20260420T220132
CREATED:20240521T111510Z
LAST-MODIFIED:20240521T111510Z
UID:964-1716483600-1716503400@balibuddhism.web.id
SUMMARY:Perayaan Waisak 2568 BE / 2024 di Vihara Dharma Giri
DESCRIPTION:
URL:https://balibuddhism.web.id/index.php/agenda/perayaan-waisak-2568-be-2024-di-vihara-dharma-giri/
LOCATION:Vihāra Dharma Giri\, Pupuan\, Tabanan\, Bali\, Indonesia
CATEGORIES:Agenda,Perayaan,Puja Bakti
ORGANIZER;CN="Vih%C4%81ra Dharma Giri":MAILTO:subala.gandha@gmail.com
END:VEVENT
BEGIN:VEVENT
DTSTART;TZID=Asia/Shanghai:20240523T170000
DTEND;TZID=Asia/Shanghai:20240523T223000
DTSTAMP:20260420T220132
CREATED:20240521T111839Z
LAST-MODIFIED:20240521T111839Z
UID:968-1716483600-1716503400@balibuddhism.web.id
SUMMARY:Perayaan Waisak 2568 BE / 2024 di Vihara Buddhavamsa
DESCRIPTION:
URL:https://balibuddhism.web.id/index.php/agenda/perayaan-waisak-2568-be-2024-di-vihara-buddhavamsa/
LOCATION:Vihāra Buddhavamsa\, Singaraja\, Bali\, Indonesia
CATEGORIES:Agenda,Perayaan,Puja Bakti
END:VEVENT
BEGIN:VEVENT
DTSTART;TZID=Asia/Shanghai:20240523T173000
DTEND;TZID=Asia/Shanghai:20240523T223000
DTSTAMP:20260420T220132
CREATED:20240521T125907Z
LAST-MODIFIED:20240521T125907Z
UID:1011-1716485400-1716503400@balibuddhism.web.id
SUMMARY:Perayaan Waisak 2568 BE/2024 di Vihara Asoka Arama
DESCRIPTION:
URL:https://balibuddhism.web.id/index.php/agenda/perayaan-waisak-2568-be-2024-di-vihara-asoka-arama/
LOCATION:Vihāra Asoka Arama\, Denpasar\, Bali\, Indonesia
CATEGORIES:Agenda,Perayaan,Puja Bakti
END:VEVENT
END:VCALENDAR