BEGIN:VCALENDAR
VERSION:2.0
PRODID:-//Bali Buddhism - ECPv6.15.20//NONSGML v1.0//EN
CALSCALE:GREGORIAN
METHOD:PUBLISH
X-ORIGINAL-URL:https://balibuddhism.web.id
X-WR-CALDESC:Events for Bali Buddhism
REFRESH-INTERVAL;VALUE=DURATION:PT1H
X-Robots-Tag:noindex
X-PUBLISHED-TTL:PT1H
BEGIN:VTIMEZONE
TZID:Asia/Shanghai
BEGIN:STANDARD
TZOFFSETFROM:+0800
TZOFFSETTO:+0800
TZNAME:CST
DTSTART:20230101T000000
END:STANDARD
END:VTIMEZONE
BEGIN:VEVENT
DTSTART;TZID=Asia/Shanghai:20240224T160000
DTEND;TZID=Asia/Shanghai:20240224T190000
DTSTAMP:20260421T071339
CREATED:20240219T104649Z
LAST-MODIFIED:20240219T104649Z
UID:485-1708790400-1708801200@balibuddhism.web.id
SUMMARY:Perayaan Magha Puja
DESCRIPTION:https://balibuddhism.web.id/wp-content/uploads/2024/02/20240219_1808081.mp4
URL:https://balibuddhism.web.id/index.php/agenda/perayaan-magha-puja/
LOCATION:Vihāra Dharma Giri\, Pupuan\, Tabanan\, Bali\, Indonesia
CATEGORIES:Agenda,Perayaan,Puja Bakti
ORGANIZER;CN="Vih%C4%81ra Dharma Giri":MAILTO:subala.gandha@gmail.com
END:VEVENT
BEGIN:VEVENT
DTSTART;TZID=Asia/Shanghai:20240224T170000
DTEND;TZID=Asia/Shanghai:20240224T210000
DTSTAMP:20260421T071339
CREATED:20240220T074337Z
LAST-MODIFIED:20240220T074337Z
UID:494-1708794000-1708808400@balibuddhism.web.id
SUMMARY:Perayaan Magha Puja 2567TB/2024
DESCRIPTION:
URL:https://balibuddhism.web.id/index.php/agenda/perayaan-magha-puja-2567tb-2024/
LOCATION:Vihara Buddha Guna\, Nusa Dua\, Bali\, Indonesia
CATEGORIES:Agenda,Perayaan,Puja Bakti
END:VEVENT
BEGIN:VEVENT
DTSTART;TZID=Asia/Shanghai:20240224T180000
DTEND;TZID=Asia/Shanghai:20240224T210000
DTSTAMP:20260421T071339
CREATED:20240221T234645Z
LAST-MODIFIED:20240221T234645Z
UID:500-1708797600-1708808400@balibuddhism.web.id
SUMMARY:Perayaan Magha Puja 2567BE/2024
DESCRIPTION:
URL:https://balibuddhism.web.id/index.php/agenda/perayaan-magha-puja-2567be-2024-3/
LOCATION:Vihāra Asoka Arama\, Denpasar\, Bali\, Indonesia
CATEGORIES:Agenda,Perayaan,Puja Bakti
END:VEVENT
END:VCALENDAR