BEGIN:VCALENDAR
VERSION:2.0
PRODID:-//Bali Buddhism - ECPv6.15.20//NONSGML v1.0//EN
CALSCALE:GREGORIAN
METHOD:PUBLISH
X-WR-CALNAME:Bali Buddhism
X-ORIGINAL-URL:https://balibuddhism.web.id
X-WR-CALDESC:Events for Bali Buddhism
REFRESH-INTERVAL;VALUE=DURATION:PT1H
X-Robots-Tag:noindex
X-PUBLISHED-TTL:PT1H
BEGIN:VTIMEZONE
TZID:Asia/Shanghai
BEGIN:STANDARD
TZOFFSETFROM:+0800
TZOFFSETTO:+0800
TZNAME:CST
DTSTART:20230101T000000
END:STANDARD
END:VTIMEZONE
BEGIN:VEVENT
DTSTART;TZID=Asia/Shanghai:20240407T090000
DTEND;TZID=Asia/Shanghai:20240407T110000
DTSTAMP:20260420T215557
CREATED:20240408T023705Z
LAST-MODIFIED:20240408T023705Z
UID:602-1712480400-1712487600@balibuddhism.web.id
SUMMARY:Puja Bakti & Ceramah Dhamma
DESCRIPTION:
URL:https://balibuddhism.web.id/index.php/agenda/puja-bakti-ceramah-dhamma-32/
LOCATION:Vihāra Buddha Sakyamuni\, Denpasar\, Bali\, Indonesia
CATEGORIES:Agenda,Puja Bakti
END:VEVENT
BEGIN:VEVENT
DTSTART;TZID=Asia/Shanghai:20240407T090000
DTEND;TZID=Asia/Shanghai:20240407T110000
DTSTAMP:20260420T215557
CREATED:20240408T023816Z
LAST-MODIFIED:20240408T023816Z
UID:604-1712480400-1712487600@balibuddhism.web.id
SUMMARY:Puja Bakti & Ceramah Dhamma
DESCRIPTION:
URL:https://balibuddhism.web.id/index.php/agenda/puja-bakti-ceramah-dhamma-36/
LOCATION:Vihāra Asoka Arama\, Denpasar\, Bali\, Indonesia
CATEGORIES:Agenda,Puja Bakti
END:VEVENT
BEGIN:VEVENT
DTSTART;TZID=Asia/Shanghai:20240410T183000
DTEND;TZID=Asia/Shanghai:20240410T210000
DTSTAMP:20260420T215557
CREATED:20240408T090756Z
LAST-MODIFIED:20240408T090756Z
UID:612-1712773800-1712782800@balibuddhism.web.id
SUMMARY:Puja Bakti & Diskusi Dhamma
DESCRIPTION:
URL:https://balibuddhism.web.id/index.php/agenda/puja-bakti-diskusi-dhamma/
LOCATION:Vihāra Buddhavamsa\, Singaraja\, Bali\, Indonesia
CATEGORIES:Agenda,Bincang Dhamma,Puja Bakti
END:VEVENT
BEGIN:VEVENT
DTSTART;TZID=Asia/Shanghai:20240414T090000
DTEND;TZID=Asia/Shanghai:20240414T110000
DTSTAMP:20260420T215557
CREATED:20240410T233514Z
LAST-MODIFIED:20240410T233639Z
UID:619-1713085200-1713092400@balibuddhism.web.id
SUMMARY:Puja Bakti & Ceramah Dhamma
DESCRIPTION:
URL:https://balibuddhism.web.id/index.php/agenda/puja-bakti-ceramah-dhamma-37/
LOCATION:Vihāra Buddha Sakyamuni\, Denpasar\, Bali\, Indonesia
CATEGORIES:Agenda,Puja Bakti
END:VEVENT
BEGIN:VEVENT
DTSTART;TZID=Asia/Shanghai:20240414T090000
DTEND;TZID=Asia/Shanghai:20240414T110000
DTSTAMP:20260420T215557
CREATED:20240412T034209Z
LAST-MODIFIED:20240412T034209Z
UID:747-1713085200-1713092400@balibuddhism.web.id
SUMMARY:Puja Bakti & Ceramah Dhamma
DESCRIPTION:
URL:https://balibuddhism.web.id/index.php/agenda/puja-bakti-ceramah-dhamma-38/
LOCATION:Vihāra Asoka Arama\, Denpasar\, Bali\, Indonesia
CATEGORIES:Agenda,Puja Bakti
END:VEVENT
BEGIN:VEVENT
DTSTART;TZID=Asia/Shanghai:20240421T090000
DTEND;TZID=Asia/Shanghai:20240421T110000
DTSTAMP:20260420T215557
CREATED:20240411T063808Z
LAST-MODIFIED:20240411T063808Z
UID:628-1713690000-1713697200@balibuddhism.web.id
SUMMARY:Sebulan Dalam Dhamma
DESCRIPTION: Puja Bakti & Ceramah Dhamma\n YM. Bhikkhu Olaraguno\n Minggu\, 21 April 2024\n 09:00WITA\n Vihāra Asoka Arama\, Denpasar\n#bali #buddhism #buddhist #puja #dhammatalk
URL:https://balibuddhism.web.id/index.php/agenda/sebulan-dalam-dhamma/
LOCATION:Vihāra Asoka Arama\, Denpasar\, Bali\, Indonesia
CATEGORIES:Agenda,Puja Bakti
END:VEVENT
BEGIN:VEVENT
DTSTART;TZID=Asia/Shanghai:20240421T090000
DTEND;TZID=Asia/Shanghai:20240421T110000
DTSTAMP:20260420T215557
CREATED:20240416T124055Z
LAST-MODIFIED:20240416T124055Z
UID:755-1713690000-1713697200@balibuddhism.web.id
SUMMARY:Puja Bakti & Ceramah Dhamma
DESCRIPTION:
URL:https://balibuddhism.web.id/index.php/agenda/puja-bakti-ceramah-dhamma-39/
LOCATION:Vihāra Buddha Sakyamuni\, Denpasar\, Bali\, Indonesia
CATEGORIES:Agenda,Puja Bakti
END:VEVENT
BEGIN:VEVENT
DTSTART;TZID=Asia/Shanghai:20240422T190000
DTEND;TZID=Asia/Shanghai:20240422T210000
DTSTAMP:20260420T215557
CREATED:20240422T024503Z
LAST-MODIFIED:20240422T024503Z
UID:781-1713812400-1713819600@balibuddhism.web.id
SUMMARY:Puja Bakti Manggala
DESCRIPTION:
URL:https://balibuddhism.web.id/index.php/agenda/puja-bakti-manggala-3/
LOCATION:Vihāra Buddha Sakyamuni\, Denpasar\, Bali\, Indonesia
CATEGORIES:Agenda,Puja Bakti
END:VEVENT
BEGIN:VEVENT
DTSTART;TZID=Asia/Shanghai:20240423T190000
DTEND;TZID=Asia/Shanghai:20240423T210000
DTSTAMP:20260420T215557
CREATED:20240411T084322Z
LAST-MODIFIED:20240416T131608Z
UID:651-1713898800-1713906000@balibuddhism.web.id
SUMMARY:Sebulan Pendalaman Dhamma
DESCRIPTION:  \n\n Mahajata & HUT ke-32 Vihara Buddha Sakyamuni\n(Pembukaan Sebulan Pendalaman Dhamma ke-26)\n\n YM. Sucirano Mahathera\n Selasa\, 23 April 2024\n 19:00WITA\n Vihāra Buddha Sakyamuni\, Denpasar\n#bali #buddhism #buddhist #puja #meditation #bhavana
URL:https://balibuddhism.web.id/index.php/agenda/sebulan-pendalaman-dhamma/
LOCATION:Vihāra Buddha Sakyamuni\, Denpasar\, Bali\, Indonesia
CATEGORIES:Agenda,Puja Bakti
END:VEVENT
BEGIN:VEVENT
DTSTART;TZID=Asia/Shanghai:20240424T190000
DTEND;TZID=Asia/Shanghai:20240424T210000
DTSTAMP:20260420T215557
CREATED:20240411T084430Z
LAST-MODIFIED:20240411T084451Z
UID:653-1713985200-1713992400@balibuddhism.web.id
SUMMARY:Sebulan Pendalaman Dhamma
DESCRIPTION: Puja Bakti & Ceramah Dhamma\n Cinta Kasih Sang Penakluk Amarah\n\n YM. Bhikkhu Dhammaratano\n Rabu\, 24 April 2024\n 19:00WITA\n Vihāra Buddha Sakyamuni\, Denpasar\n\n#bali #buddhism #buddhist #puja #meditation #bhavana
URL:https://balibuddhism.web.id/index.php/agenda/sebulan-pendalaman-dhamma-2/
LOCATION:Vihāra Buddha Sakyamuni\, Denpasar\, Bali\, Indonesia
CATEGORIES:Agenda,Puja Bakti
END:VEVENT
BEGIN:VEVENT
DTSTART;TZID=Asia/Shanghai:20240425T183000
DTEND;TZID=Asia/Shanghai:20240425T210000
DTSTAMP:20260420T215557
CREATED:20240424T100815Z
LAST-MODIFIED:20240424T100815Z
UID:802-1714069800-1714078800@balibuddhism.web.id
SUMMARY:Sebulan Pendalaman Dhamma
DESCRIPTION:📢 Sebulan Pendalaman Dhamma \n🎙 Bapak I Nengah Piyadasi(Penyelenggara Bimas Buddha\, Kabupaten Buleleng) \n📅 Kamis\, 25 April 2024 \n⏱️ 18:30WITA \n📍 Vihara Buddhavamsa\, Singaraja \n  \n#bali #buddhism #spd #puja #dhammatalk #waisak
URL:https://balibuddhism.web.id/index.php/agenda/sebulan-pendalaman-dhamma-30/
LOCATION:Vihāra Buddhavamsa\, Singaraja\, Bali\, Indonesia
CATEGORIES:Agenda,Puja Bakti
END:VEVENT
BEGIN:VEVENT
DTSTART;TZID=Asia/Shanghai:20240425T190000
DTEND;TZID=Asia/Shanghai:20240425T210000
DTSTAMP:20260420T215557
CREATED:20240411T084538Z
LAST-MODIFIED:20240411T084538Z
UID:656-1714071600-1714078800@balibuddhism.web.id
SUMMARY:Sebulan Pendalaman Dhamma
DESCRIPTION: Puja Bakti & Ceramah Dhamma\n Wujud Cinta Pada Diri Sendiri\n\n YM. Bhikkhu Karunasilo\n Kamis\, 25 April 2024\n 19:00WITA\n Vihāra Buddha Sakyamuni\, Denpasar\n\n#bali #buddhism #buddhist #puja #meditation #bhavana
URL:https://balibuddhism.web.id/index.php/agenda/sebulan-pendalaman-dhamma-3/
LOCATION:Vihāra Buddha Sakyamuni\, Denpasar\, Bali\, Indonesia
CATEGORIES:Agenda,Puja Bakti
END:VEVENT
BEGIN:VEVENT
DTSTART;TZID=Asia/Shanghai:20240426T190000
DTEND;TZID=Asia/Shanghai:20240426T210000
DTSTAMP:20260420T215557
CREATED:20240411T084649Z
LAST-MODIFIED:20240424T094856Z
UID:658-1714158000-1714165200@balibuddhism.web.id
SUMMARY:Sebulan Pendalaman Dhamma
DESCRIPTION: Puja Bakti & Ceramah Dhamma\n Antara Cinta Dan Benci\n\n YM. Bhikkhu Karunasilo\n Jumat\, 26 April 2024\n 19:00WITA\n Vihāra Buddha Sakyamuni\, Denpasar\n\n#bali #buddhism #buddhist #puja #meditation #bhavana
URL:https://balibuddhism.web.id/index.php/agenda/sebulan-pendalaman-dhamma-4/
LOCATION:Vihāra Buddha Sakyamuni\, Denpasar\, Bali\, Indonesia
CATEGORIES:Agenda,Puja Bakti
END:VEVENT
BEGIN:VEVENT
DTSTART;TZID=Asia/Shanghai:20240427T183000
DTEND;TZID=Asia/Shanghai:20240427T210000
DTSTAMP:20260420T215557
CREATED:20240427T010927Z
LAST-MODIFIED:20240427T010927Z
UID:820-1714242600-1714251600@balibuddhism.web.id
SUMMARY:Sebulan Pendalaman Dhamma
DESCRIPTION:📢 Sebulan Pendalaman Dhamma \n🎙 YM Bhikkhu Pabhajayo\n📅 Sabtu\, 27 April 2024\n⏱️ 18:30WITA\n📍 Vihara Buddhavamsa\, Singaraja
URL:https://balibuddhism.web.id/index.php/agenda/sebulan-pendalaman-dhamma-31/
LOCATION:Vihāra Buddhavamsa\, Singaraja\, Bali\, Indonesia
CATEGORIES:Agenda,Puja Bakti
END:VEVENT
BEGIN:VEVENT
DTSTART;TZID=Asia/Shanghai:20240427T190000
DTEND;TZID=Asia/Shanghai:20240427T210000
DTSTAMP:20260420T215557
CREATED:20240411T084812Z
LAST-MODIFIED:20240427T010703Z
UID:660-1714244400-1714251600@balibuddhism.web.id
SUMMARY:Sebulan Pendalaman Dhamma
DESCRIPTION: Puja Bakti & Ceramah Dhamma\n\n Sukses & Bahagia\n YM. Bhikkhu Jayamedho Thera\n Sabtu\, 27 April 2024\n 19:00WITA\n Vihāra Buddha Sakyamuni\, Denpasar\n\n#bali #buddhism #buddhist #puja #meditation #bhavana
URL:https://balibuddhism.web.id/index.php/agenda/sebulan-pendalaman-dhamma-5/
LOCATION:Vihāra Buddha Sakyamuni\, Denpasar\, Bali\, Indonesia
CATEGORIES:Agenda,Puja Bakti
END:VEVENT
BEGIN:VEVENT
DTSTART;TZID=Asia/Shanghai:20240428T090000
DTEND;TZID=Asia/Shanghai:20240428T110000
DTSTAMP:20260420T215557
CREATED:20240411T084920Z
LAST-MODIFIED:20240411T084920Z
UID:662-1714294800-1714302000@balibuddhism.web.id
SUMMARY:Sebulan Pendalaman Dhamma
DESCRIPTION: Puja Bakti & Ceramah Dhamma\n\n\n YM. Bhikkhu Jayamedho Thera\n Minggu\, 28 April 2024\n 9:00WITA\n Vihāra Buddha Sakyamuni\, Denpasar\n\n#bali #buddhism #buddhist #puja #meditation #bhavana
URL:https://balibuddhism.web.id/index.php/agenda/sebulan-pendalaman-dhamma-6/
LOCATION:Vihāra Buddha Sakyamuni\, Denpasar\, Bali\, Indonesia
CATEGORIES:Agenda,Puja Bakti
END:VEVENT
BEGIN:VEVENT
DTSTART;TZID=Asia/Shanghai:20240428T090000
DTEND;TZID=Asia/Shanghai:20240428T230000
DTSTAMP:20260420T215557
CREATED:20240411T072010Z
LAST-MODIFIED:20240427T011325Z
UID:645-1714294800-1714345200@balibuddhism.web.id
SUMMARY:Sebulan Dalam Dhamma
DESCRIPTION: Puja Bakti & Ceramah Dhamma\n\n YM. Bhikkhu Karunasilo\n Minggu\, 28 April 2024\n 09:00WITA\n Vihāra Asoka Arama\, Denpasar\n#bali #buddhism #buddhist #puja #dhammatalk
URL:https://balibuddhism.web.id/index.php/agenda/sebulan-dalam-dhamma-8/
LOCATION:Vihāra Asoka Arama\, Denpasar\, Bali\, Indonesia
CATEGORIES:Agenda,Puja Bakti
END:VEVENT
BEGIN:VEVENT
DTSTART;TZID=Asia/Shanghai:20240429T183000
DTEND;TZID=Asia/Shanghai:20240429T210000
DTSTAMP:20260420T215557
CREATED:20240427T011047Z
LAST-MODIFIED:20240427T011047Z
UID:822-1714415400-1714424400@balibuddhism.web.id
SUMMARY:Sebulan Pendalaman Dhamma
DESCRIPTION:📢 Sebulan Pendalaman Dhamma \n🎙 YM Bhikkhu Olaraguno\n📅 Senin\, 29 April 2024\n⏱️ 18:30WITA\n📍 Vihara Buddhavamsa\, Singaraja
URL:https://balibuddhism.web.id/index.php/agenda/sebulan-pendalaman-dhamma-32/
LOCATION:Vihāra Buddhavamsa\, Singaraja\, Bali\, Indonesia
CATEGORIES:Agenda,Puja Bakti
END:VEVENT
BEGIN:VEVENT
DTSTART;TZID=Asia/Shanghai:20240429T190000
DTEND;TZID=Asia/Shanghai:20240429T210000
DTSTAMP:20260420T215557
CREATED:20240411T085024Z
LAST-MODIFIED:20240428T065046Z
UID:664-1714417200-1714424400@balibuddhism.web.id
SUMMARY:Sebulan Pendalaman Dhamma
DESCRIPTION: Puja Bakti & Ceramah Dhamma\n\n Samudra Raya\n YM. Bhikkhu Jayaseno\n Senin\, 29 April 2024\n 19:00WITA\n Vihāra Buddha Sakyamuni\, Denpasar\n\n#bali #buddhism #buddhist #puja #meditation #bhavana
URL:https://balibuddhism.web.id/index.php/agenda/sebulan-pendalaman-dhamma-7/
LOCATION:Vihāra Buddha Sakyamuni\, Denpasar\, Bali\, Indonesia
CATEGORIES:Agenda,Puja Bakti
END:VEVENT
BEGIN:VEVENT
DTSTART;TZID=Asia/Shanghai:20240429T190000
DTEND;TZID=Asia/Shanghai:20240429T210000
DTSTAMP:20260420T215557
CREATED:20240428T062252Z
LAST-MODIFIED:20240428T062252Z
UID:830-1714417200-1714424400@balibuddhism.web.id
SUMMARY:Puja Bakti & Ceramah Dhamma
DESCRIPTION:Puja Bakti & Ceramah Dhamma \n YM Bhikkhu Jayamedho Thera\n Senin\, 29 April 2024\n 19:00WITA\n Vihara Buddha Guna\, Nusa Dua
URL:https://balibuddhism.web.id/index.php/agenda/puja-bakti-ceramah-dhamma-40/
LOCATION:Vihara Buddha Guna\, Nusa Dua\, Bali\, Indonesia
CATEGORIES:Agenda,Puja Bakti
END:VEVENT
BEGIN:VEVENT
DTSTART;TZID=Asia/Shanghai:20240430T190000
DTEND;TZID=Asia/Shanghai:20240430T210000
DTSTAMP:20260420T215557
CREATED:20240411T085136Z
LAST-MODIFIED:20240510T035114Z
UID:666-1714503600-1714510800@balibuddhism.web.id
SUMMARY:Sebulan Pendalaman Dhamma
DESCRIPTION: Puja Bakti & Ceramah Dhamma\n\n Duduk Sama Rendah\, Berdiri Sama Tinggi\n YM. Bhikkhu Indaguno Thera\n Selasa\, 30 April 2024\n 19:00WITA\n Vihāra Buddha Sakyamuni\, Denpasar\n\n#bali #buddhism #buddhist #puja #meditation #bhavana
URL:https://balibuddhism.web.id/index.php/agenda/sebulan-pendalaman-dhamma-8/
LOCATION:Vihāra Buddha Sakyamuni\, Denpasar\, Bali\, Indonesia
CATEGORIES:Agenda,Puja Bakti
END:VEVENT
END:VCALENDAR